BEGIN:VCALENDAR
VERSION:2.0
PRODID:-//Hertfordshire Golf - ECPv6.13.2.1//NONSGML v1.0//EN
CALSCALE:GREGORIAN
METHOD:PUBLISH
X-WR-CALNAME:Hertfordshire Golf
X-ORIGINAL-URL:https://hertfordshiregolf.org
X-WR-CALDESC:Events for Hertfordshire Golf
REFRESH-INTERVAL;VALUE=DURATION:PT1H
X-Robots-Tag:noindex
X-PUBLISHED-TTL:PT1H
BEGIN:VTIMEZONE
TZID:Europe/London
BEGIN:DAYLIGHT
TZOFFSETFROM:+0000
TZOFFSETTO:+0100
TZNAME:BST
DTSTART:20260329T010000
END:DAYLIGHT
BEGIN:STANDARD
TZOFFSETFROM:+0100
TZOFFSETTO:+0000
TZNAME:GMT
DTSTART:20261025T010000
END:STANDARD
END:VTIMEZONE
BEGIN:VEVENT
DTSTART;VALUE=DATE:20260727
DTEND;VALUE=DATE:20260728
DTSTAMP:20260423T124128
CREATED:20251121T115331Z
LAST-MODIFIED:20251121T125403Z
UID:10002191-1785110400-1785196799@hertfordshiregolf.org
SUMMARY:County Boys Championship
DESCRIPTION:
URL:https://hertfordshiregolf.org/event/county-boys-championship-3/
LOCATION:Old Fold Manor\, Convent Close 1\, Barnet\, Greater London\, EN5 5FJ\, United Kingdom
GEO:51.6615231;-0.2001373
X-APPLE-STRUCTURED-LOCATION;VALUE=URI;X-ADDRESS=Old Fold Manor Convent Close 1 Barnet Greater London EN5 5FJ United Kingdom;X-APPLE-RADIUS=500;X-TITLE=Convent Close 1:geo:-0.2001373,51.6615231
END:VEVENT
END:VCALENDAR