BEGIN:VCALENDAR
VERSION:2.0
PRODID:-//Hertfordshire Golf - ECPv6.13.2.1//NONSGML v1.0//EN
CALSCALE:GREGORIAN
METHOD:PUBLISH
X-WR-CALNAME:Hertfordshire Golf
X-ORIGINAL-URL:https://hertfordshiregolf.org
X-WR-CALDESC:Events for Hertfordshire Golf
REFRESH-INTERVAL;VALUE=DURATION:PT1H
X-Robots-Tag:noindex
X-PUBLISHED-TTL:PT1H
BEGIN:VTIMEZONE
TZID:Europe/London
BEGIN:DAYLIGHT
TZOFFSETFROM:+0000
TZOFFSETTO:+0100
TZNAME:BST
DTSTART:20250330T010000
END:DAYLIGHT
BEGIN:STANDARD
TZOFFSETFROM:+0100
TZOFFSETTO:+0000
TZNAME:GMT
DTSTART:20251026T010000
END:STANDARD
END:VTIMEZONE
BEGIN:VEVENT
DTSTART;VALUE=DATE:20250813
DTEND;VALUE=DATE:20250814
DTSTAMP:20260419T163532
CREATED:20250304T121913Z
LAST-MODIFIED:20250304T121913Z
UID:26143-1755043200-1755129599@hertfordshiregolf.org
SUMMARY:The Grove Junior Open
DESCRIPTION:
URL:https://hertfordshiregolf.org/event/the-grove-junior-open-2/
LOCATION:The Grove\, Chandler's Cross\, Hertfordshire\, WD3 4TG\, United Kingdom
CATEGORIES:Juniors
GEO:51.6769238;-0.4396508
END:VEVENT
END:VCALENDAR