BEGIN:VCALENDAR
VERSION:2.0
PRODID:-//Hertfordshire Golf - ECPv6.13.2.1//NONSGML v1.0//EN
CALSCALE:GREGORIAN
METHOD:PUBLISH
X-WR-CALNAME:Hertfordshire Golf
X-ORIGINAL-URL:https://hertfordshiregolf.org
X-WR-CALDESC:Events for Hertfordshire Golf
REFRESH-INTERVAL;VALUE=DURATION:PT1H
X-Robots-Tag:noindex
X-PUBLISHED-TTL:PT1H
BEGIN:VTIMEZONE
TZID:Europe/London
BEGIN:DAYLIGHT
TZOFFSETFROM:+0000
TZOFFSETTO:+0100
TZNAME:BST
DTSTART:20240331T010000
END:DAYLIGHT
BEGIN:STANDARD
TZOFFSETFROM:+0100
TZOFFSETTO:+0000
TZNAME:GMT
DTSTART:20241027T010000
END:STANDARD
END:VTIMEZONE
BEGIN:VEVENT
DTSTART;TZID=Europe/London:20240929T123000
DTEND;TZID=Europe/London:20240929T153000
DTSTAMP:20260425T052333
CREATED:20240425T151250Z
LAST-MODIFIED:20240425T151250Z
UID:18372-1727613000-1727623800@hertfordshiregolf.org
SUMMARY:Girls Summer of Golf 5
DESCRIPTION:
URL:https://hertfordshiregolf.org/event/girls-summer-of-golf-5/
LOCATION:West Herts Golf Club\, Rousebarn Ln\, Croxley Green\, Watford\, Rickmansworth WD3 3GG\, UK
CATEGORIES:Girls Summer Series
GEO:51.6603736;-0.4367808
X-APPLE-STRUCTURED-LOCATION;VALUE=URI;X-ADDRESS=West Herts Golf Club Rousebarn Ln Croxley Green Watford Rickmansworth WD3 3GG UK;X-APPLE-RADIUS=500;X-TITLE=Rousebarn Ln\, Croxley Green\, Watford\, Rickmansworth WD3 3GG\, UK:geo:-0.4367808,51.6603736
END:VEVENT
END:VCALENDAR