BEGIN:VCALENDAR
VERSION:2.0
PRODID:-//Hertfordshire Golf - ECPv6.13.2.1//NONSGML v1.0//EN
CALSCALE:GREGORIAN
METHOD:PUBLISH
X-WR-CALNAME:Hertfordshire Golf
X-ORIGINAL-URL:https://hertfordshiregolf.org
X-WR-CALDESC:Events for Hertfordshire Golf
REFRESH-INTERVAL;VALUE=DURATION:PT1H
X-Robots-Tag:noindex
X-PUBLISHED-TTL:PT1H
BEGIN:VTIMEZONE
TZID:Europe/London
BEGIN:DAYLIGHT
TZOFFSETFROM:+0000
TZOFFSETTO:+0100
TZNAME:BST
DTSTART:20260329T010000
END:DAYLIGHT
BEGIN:STANDARD
TZOFFSETFROM:+0100
TZOFFSETTO:+0000
TZNAME:GMT
DTSTART:20261025T010000
END:STANDARD
END:VTIMEZONE
BEGIN:VEVENT
DTSTART;VALUE=DATE:20260412
DTEND;VALUE=DATE:20260413
DTSTAMP:20260422T205810
CREATED:20251217T142401Z
LAST-MODIFIED:20251217T142401Z
UID:28811-1775952000-1776038399@hertfordshiregolf.org
SUMMARY:Futures Tour Event #1
DESCRIPTION:
URL:https://hertfordshiregolf.org/event/futures-tour-event-1-2/
LOCATION:Chesfield Downs Golf Club\, Graveley\, Hertfordshire\, SG4 7EQ\, United Kingdom
CATEGORIES:Futures Tour,Juniors
GEO:51.9497212;-0.2024921
END:VEVENT
END:VCALENDAR