BEGIN:VCALENDAR
VERSION:2.0
PRODID:-//Hertfordshire Golf - ECPv6.13.2.1//NONSGML v1.0//EN
CALSCALE:GREGORIAN
METHOD:PUBLISH
X-WR-CALNAME:Hertfordshire Golf
X-ORIGINAL-URL:https://hertfordshiregolf.org
X-WR-CALDESC:Events for Hertfordshire Golf
REFRESH-INTERVAL;VALUE=DURATION:PT1H
X-Robots-Tag:noindex
X-PUBLISHED-TTL:PT1H
BEGIN:VTIMEZONE
TZID:Europe/London
BEGIN:DAYLIGHT
TZOFFSETFROM:+0000
TZOFFSETTO:+0100
TZNAME:BST
DTSTART:20260329T010000
END:DAYLIGHT
BEGIN:STANDARD
TZOFFSETFROM:+0100
TZOFFSETTO:+0000
TZNAME:GMT
DTSTART:20261025T010000
END:STANDARD
END:VTIMEZONE
BEGIN:VEVENT
DTSTART;VALUE=DATE:20260703
DTEND;VALUE=DATE:20260706
DTSTAMP:20260420T151913
CREATED:20251121T115415Z
LAST-MODIFIED:20251121T125448Z
UID:28544-1783036800-1783295999@hertfordshiregolf.org
SUMMARY:England Golf Mens Logan Trophy
DESCRIPTION:
URL:https://hertfordshiregolf.org/event/england-golf-mens-logan-trophy-2/
LOCATION:Hadley Wood\, Beech Hill\, Barnet\, Greater London\, EN4 0JJ\, United Kingdom
CATEGORIES:Mens
GEO:51.6668007;-0.1661406
X-APPLE-STRUCTURED-LOCATION;VALUE=URI;X-ADDRESS=Hadley Wood Beech Hill Barnet Greater London EN4 0JJ United Kingdom;X-APPLE-RADIUS=500;X-TITLE=Beech Hill:geo:-0.1661406,51.6668007
END:VEVENT
END:VCALENDAR