BEGIN:VCALENDAR
VERSION:2.0
PRODID:-//Hertfordshire Golf - ECPv6.13.2.1//NONSGML v1.0//EN
CALSCALE:GREGORIAN
METHOD:PUBLISH
X-WR-CALNAME:Hertfordshire Golf
X-ORIGINAL-URL:https://hertfordshiregolf.org
X-WR-CALDESC:Events for Hertfordshire Golf
REFRESH-INTERVAL;VALUE=DURATION:PT1H
X-Robots-Tag:noindex
X-PUBLISHED-TTL:PT1H
BEGIN:VTIMEZONE
TZID:Europe/London
BEGIN:DAYLIGHT
TZOFFSETFROM:+0000
TZOFFSETTO:+0100
TZNAME:BST
DTSTART:20260329T010000
END:DAYLIGHT
BEGIN:STANDARD
TZOFFSETFROM:+0100
TZOFFSETTO:+0000
TZNAME:GMT
DTSTART:20261025T010000
END:STANDARD
END:VTIMEZONE
BEGIN:VEVENT
DTSTART;VALUE=DATE:20260805
DTEND;VALUE=DATE:20260807
DTSTAMP:20260419T162035
CREATED:20251121T115331Z
LAST-MODIFIED:20251121T125403Z
UID:28515-1785888000-1786060799@hertfordshiregolf.org
SUMMARY:County Mens Seniors Championship
DESCRIPTION:
URL:https://hertfordshiregolf.org/event/county-mens-seniors-championship-2/
END:VEVENT
END:VCALENDAR