BEGIN:VCALENDAR
VERSION:2.0
PRODID:-//Hertfordshire Golf - ECPv6.13.2.1//NONSGML v1.0//EN
CALSCALE:GREGORIAN
METHOD:PUBLISH
X-WR-CALNAME:Hertfordshire Golf
X-ORIGINAL-URL:https://hertfordshiregolf.org
X-WR-CALDESC:Events for Hertfordshire Golf
REFRESH-INTERVAL;VALUE=DURATION:PT1H
X-Robots-Tag:noindex
X-PUBLISHED-TTL:PT1H
BEGIN:VTIMEZONE
TZID:Europe/London
BEGIN:DAYLIGHT
TZOFFSETFROM:+0000
TZOFFSETTO:+0100
TZNAME:BST
DTSTART:20260329T010000
END:DAYLIGHT
BEGIN:STANDARD
TZOFFSETFROM:+0100
TZOFFSETTO:+0000
TZNAME:GMT
DTSTART:20261025T010000
END:STANDARD
END:VTIMEZONE
BEGIN:VEVENT
DTSTART;VALUE=DATE:20260519
DTEND;VALUE=DATE:20260520
DTSTAMP:20260419T162256
CREATED:20251121T115328Z
LAST-MODIFIED:20251121T125359Z
UID:28508-1779148800-1779235199@hertfordshiregolf.org
SUMMARY:County Mens Senior Champion Club
DESCRIPTION:
URL:https://hertfordshiregolf.org/event/county-mens-senior-champion-club-2/
LOCATION:Verulam\, London Road 226\, St. Albans\, Hertfordshire\, AL1 1JG\, United Kingdom
CATEGORIES:Seniors
GEO:51.7430513;-0.3266217
X-APPLE-STRUCTURED-LOCATION;VALUE=URI;X-ADDRESS=Verulam London Road 226 St. Albans Hertfordshire AL1 1JG United Kingdom;X-APPLE-RADIUS=500;X-TITLE=London Road 226:geo:-0.3266217,51.7430513
END:VEVENT
END:VCALENDAR