BEGIN:VCALENDAR
VERSION:2.0
PRODID:-//Hertfordshire Golf - ECPv6.13.2.1//NONSGML v1.0//EN
CALSCALE:GREGORIAN
METHOD:PUBLISH
X-WR-CALNAME:Hertfordshire Golf
X-ORIGINAL-URL:https://hertfordshiregolf.org
X-WR-CALDESC:Events for Hertfordshire Golf
REFRESH-INTERVAL;VALUE=DURATION:PT1H
X-Robots-Tag:noindex
X-PUBLISHED-TTL:PT1H
BEGIN:VTIMEZONE
TZID:Europe/London
BEGIN:DAYLIGHT
TZOFFSETFROM:+0000
TZOFFSETTO:+0100
TZNAME:BST
DTSTART:20250330T010000
END:DAYLIGHT
BEGIN:STANDARD
TZOFFSETFROM:+0100
TZOFFSETTO:+0000
TZNAME:GMT
DTSTART:20251026T010000
END:STANDARD
END:VTIMEZONE
BEGIN:VEVENT
DTSTART;VALUE=DATE:20250826
DTEND;VALUE=DATE:20250827
DTSTAMP:20260420T151648
CREATED:20250128T155642Z
LAST-MODIFIED:20250209T012311Z
UID:23726-1756166400-1756252799@hertfordshiregolf.org
SUMMARY:Bishop's Stortford Ladies Open Meeting - 4ball Alliance
DESCRIPTION:
URL:https://hertfordshiregolf.org/event/bishops-stortford-ladies-open-meeting-4ball-alliance/
LOCATION:Bishop’s Stortford Golf Club\, Dunmow Rd\, Bishop's Stortford\, CM23 5HP\, United Kingdom
CATEGORIES:Womens
GEO:51.8710186;0.1828077
X-APPLE-STRUCTURED-LOCATION;VALUE=URI;X-ADDRESS=Bishop’s Stortford Golf Club Dunmow Rd Bishop's Stortford CM23 5HP United Kingdom;X-APPLE-RADIUS=500;X-TITLE=Dunmow Rd:geo:0.1828077,51.8710186
END:VEVENT
END:VCALENDAR