BEGIN:VCALENDAR
VERSION:2.0
PRODID:-//Hertfordshire Golf - ECPv6.13.2.1//NONSGML v1.0//EN
CALSCALE:GREGORIAN
METHOD:PUBLISH
X-WR-CALNAME:Hertfordshire Golf
X-ORIGINAL-URL:https://hertfordshiregolf.org
X-WR-CALDESC:Events for Hertfordshire Golf
REFRESH-INTERVAL;VALUE=DURATION:PT1H
X-Robots-Tag:noindex
X-PUBLISHED-TTL:PT1H
BEGIN:VTIMEZONE
TZID:Europe/London
BEGIN:DAYLIGHT
TZOFFSETFROM:+0000
TZOFFSETTO:+0100
TZNAME:BST
DTSTART:20260329T010000
END:DAYLIGHT
BEGIN:STANDARD
TZOFFSETFROM:+0100
TZOFFSETTO:+0000
TZNAME:GMT
DTSTART:20261025T010000
END:STANDARD
END:VTIMEZONE
BEGIN:VEVENT
DTSTART;TZID=Europe/London:20260302T150000
DTEND;TZID=Europe/London:20260302T163000
DTSTAMP:20260424T125805
CREATED:20251128T132512Z
LAST-MODIFIED:20260302T084654Z
UID:10002268-1772463600-1772469000@hertfordshiregolf.org
SUMMARY:Hertfordshire Golf AGM
DESCRIPTION:
URL:https://hertfordshiregolf.org/event/hertfordshire-golf-agm-3/
LOCATION:Knebworth Golf Club\, DEARDS END LANE\, KNEBWORTH\, SG3 6NL\, United Kingdom
CATEGORIES:County Events,Meeting
GEO:51.8701906;-0.1909114
X-APPLE-STRUCTURED-LOCATION;VALUE=URI;X-ADDRESS=Knebworth Golf Club DEARDS END LANE KNEBWORTH SG3 6NL United Kingdom;X-APPLE-RADIUS=500;X-TITLE=DEARDS END LANE:geo:-0.1909114,51.8701906
END:VEVENT
END:VCALENDAR