BEGIN:VCALENDAR
VERSION:2.0
PRODID:-//Hertfordshire Golf - ECPv6.13.2.1//NONSGML v1.0//EN
CALSCALE:GREGORIAN
METHOD:PUBLISH
X-WR-CALNAME:Hertfordshire Golf
X-ORIGINAL-URL:https://hertfordshiregolf.org
X-WR-CALDESC:Events for Hertfordshire Golf
REFRESH-INTERVAL;VALUE=DURATION:PT1H
X-Robots-Tag:noindex
X-PUBLISHED-TTL:PT1H
BEGIN:VTIMEZONE
TZID:Europe/London
BEGIN:DAYLIGHT
TZOFFSETFROM:+0000
TZOFFSETTO:+0100
TZNAME:BST
DTSTART:20260329T010000
END:DAYLIGHT
BEGIN:STANDARD
TZOFFSETFROM:+0100
TZOFFSETTO:+0000
TZNAME:GMT
DTSTART:20261025T010000
END:STANDARD
END:VTIMEZONE
BEGIN:VEVENT
DTSTART;VALUE=DATE:20260517
DTEND;VALUE=DATE:20260518
DTSTAMP:20260424T201921
CREATED:20251217T142450Z
LAST-MODIFIED:20251217T142450Z
UID:10002270-1778976000-1779062399@hertfordshiregolf.org
SUMMARY:Futures Tour Event #2
DESCRIPTION:
URL:https://hertfordshiregolf.org/event/futures-tour-event-2-2/
LOCATION:Redbourn Golf Club\, Kinsbourne Green Ln\, St Albans AL3 7QA\, UK\, St Albans\, AL3 7QA\, United Kingdom
CATEGORIES:Futures Tour,Juniors
GEO:51.8164956;-0.3940504
X-APPLE-STRUCTURED-LOCATION;VALUE=URI;X-ADDRESS=Redbourn Golf Club Kinsbourne Green Ln St Albans AL3 7QA UK St Albans AL3 7QA United Kingdom;X-APPLE-RADIUS=500;X-TITLE=Kinsbourne Green Ln\, St Albans AL3 7QA\, UK:geo:-0.3940504,51.8164956
END:VEVENT
BEGIN:VEVENT
DTSTART;VALUE=DATE:20260614
DTEND;VALUE=DATE:20260615
DTSTAMP:20260424T201921
CREATED:20251217T142537Z
LAST-MODIFIED:20251217T142537Z
UID:10002271-1781395200-1781481599@hertfordshiregolf.org
SUMMARY:Futures Tour Event #3
DESCRIPTION:
URL:https://hertfordshiregolf.org/event/futures-tour-event-3-2/
LOCATION:The Club at Mill Green\, Gypsy Lane\, Welwyn Garden City\, AL7 4TY\, United Kingdom
CATEGORIES:Futures Tour,Juniors
GEO:51.7792633;-0.1921641
X-APPLE-STRUCTURED-LOCATION;VALUE=URI;X-ADDRESS=The Club at Mill Green Gypsy Lane Welwyn Garden City AL7 4TY United Kingdom;X-APPLE-RADIUS=500;X-TITLE=Gypsy Lane:geo:-0.1921641,51.7792633
END:VEVENT
BEGIN:VEVENT
DTSTART;VALUE=DATE:20260719
DTEND;VALUE=DATE:20260720
DTSTAMP:20260424T201921
CREATED:20251217T145913Z
LAST-MODIFIED:20251217T145913Z
UID:10002283-1784419200-1784505599@hertfordshiregolf.org
SUMMARY:Futures Tour Event #4
DESCRIPTION:
URL:https://hertfordshiregolf.org/event/futures-tour-event-4-3/
LOCATION:South Herts Golf Club\, Links Drive\, Totteridge\, Herts\, N20 8QU\, United Kingdom
CATEGORIES:Futures Tour,Juniors
GEO:51.8097823;-0.2376744
X-APPLE-STRUCTURED-LOCATION;VALUE=URI;X-ADDRESS=South Herts Golf Club Links Drive Totteridge Herts N20 8QU United Kingdom;X-APPLE-RADIUS=500;X-TITLE=Links Drive:geo:-0.2376744,51.8097823
END:VEVENT
BEGIN:VEVENT
DTSTART;VALUE=DATE:20260816
DTEND;VALUE=DATE:20260817
DTSTAMP:20260424T201921
CREATED:20251217T145954Z
LAST-MODIFIED:20251217T145954Z
UID:10002284-1786838400-1786924799@hertfordshiregolf.org
SUMMARY:Futures Tour Event #5
DESCRIPTION:
URL:https://hertfordshiregolf.org/event/futures-tour-event-5-3/
LOCATION:Aldwickbury Park Golf Club\, Piggottshill Ln\, Harpenden AL5 1AB\, UK
CATEGORIES:Futures Tour,Juniors
GEO:51.8138101;-0.3333341
X-APPLE-STRUCTURED-LOCATION;VALUE=URI;X-ADDRESS=Aldwickbury Park Golf Club Piggottshill Ln Harpenden AL5 1AB UK;X-APPLE-RADIUS=500;X-TITLE=Piggottshill Ln\, Harpenden AL5 1AB\, UK:geo:-0.3333341,51.8138101
END:VEVENT
BEGIN:VEVENT
DTSTART;VALUE=DATE:20260913
DTEND;VALUE=DATE:20260914
DTSTAMP:20260424T201921
CREATED:20251217T143023Z
LAST-MODIFIED:20251217T143023Z
UID:10002274-1789257600-1789343999@hertfordshiregolf.org
SUMMARY:Futures Tour Event #6
DESCRIPTION:
URL:https://hertfordshiregolf.org/event/futures-tour-event-6-2/
LOCATION:Stevenage Golf Club\, Aston Lane\, Stevenage\, Hertfordshire\, SG2 7EL\, United Kingdom
CATEGORIES:Futures Tour,Juniors
GEO:51.8821857;-0.1551097
X-APPLE-STRUCTURED-LOCATION;VALUE=URI;X-ADDRESS=Stevenage Golf Club Aston Lane Stevenage Hertfordshire SG2 7EL United Kingdom;X-APPLE-RADIUS=500;X-TITLE=Aston Lane:geo:-0.1551097,51.8821857
END:VEVENT
BEGIN:VEVENT
DTSTART;VALUE=DATE:20260927
DTEND;VALUE=DATE:20260928
DTSTAMP:20260424T201921
CREATED:20251217T143105Z
LAST-MODIFIED:20251217T143105Z
UID:10002275-1790467200-1790553599@hertfordshiregolf.org
SUMMARY:Futures Tour Event #7
DESCRIPTION:
URL:https://hertfordshiregolf.org/event/futures-tour-event-7/
LOCATION:Chesfield Downs Golf Club\, Graveley\, Hertfordshire\, SG4 7EQ\, United Kingdom
CATEGORIES:Futures Tour,Juniors
GEO:51.9497212;-0.2024921
END:VEVENT
END:VCALENDAR